BEGIN:VCALENDAR
VERSION:2.0
PRODID:-//Iglesia Bautista Gracia Abundante - Iglesia Cristiana en Ciudad de México - ECPv6.8.1//NONSGML v1.0//EN
CALSCALE:GREGORIAN
METHOD:PUBLISH
X-WR-CALNAME:Iglesia Bautista Gracia Abundante - Iglesia Cristiana en Ciudad de México
X-ORIGINAL-URL:https://graciacdmx.com
X-WR-CALDESC:Eventos para Iglesia Bautista Gracia Abundante - Iglesia Cristiana en Ciudad de México
REFRESH-INTERVAL;VALUE=DURATION:PT1H
X-Robots-Tag:noindex
X-PUBLISHED-TTL:PT1H
BEGIN:VTIMEZONE
TZID:America/Mexico_City
BEGIN:DAYLIGHT
TZOFFSETFROM:-0600
TZOFFSETTO:-0500
TZNAME:CDT
DTSTART:20230402T080000
END:DAYLIGHT
BEGIN:STANDARD
TZOFFSETFROM:-0500
TZOFFSETTO:-0600
TZNAME:CST
DTSTART:20231029T070000
END:STANDARD
BEGIN:DAYLIGHT
TZOFFSETFROM:-0600
TZOFFSETTO:-0500
TZNAME:CDT
DTSTART:20240407T080000
END:DAYLIGHT
BEGIN:STANDARD
TZOFFSETFROM:-0500
TZOFFSETTO:-0600
TZNAME:CST
DTSTART:20241027T070000
END:STANDARD
END:VTIMEZONE
BEGIN:VEVENT
DTSTART;TZID=America/Mexico_City:20240516T193000
DTEND;TZID=America/Mexico_City:20240516T203000
DTSTAMP:20260422T022258
CREATED:20240503T180844Z
LAST-MODIFIED:20240503T180844Z
UID:6296-1715887800-1715891400@graciacdmx.com
SUMMARY:Clase de hombres
DESCRIPTION:Conéctate con nosotros por zoom para conocer cómo puedes hacer iglesia en casa
URL:https://graciacdmx.com/evento/clase-de-hombres-2/
ATTACH;FMTTYPE=image/png:https://graciacdmx.com/wp-content/uploads/2024/05/26-1.png
END:VEVENT
BEGIN:VEVENT
DTSTART;TZID=America/Mexico_City:20240514T193000
DTEND;TZID=America/Mexico_City:20240514T203000
DTSTAMP:20260422T022258
CREATED:20240503T175329Z
LAST-MODIFIED:20240503T175329Z
UID:6285-1715715000-1715718600@graciacdmx.com
SUMMARY:Clase de mujeres
DESCRIPTION:Conéctate con nosotros por zoom para conocer cómo puedes hacer iglesia en casa
URL:https://graciacdmx.com/evento/clase-de-mujeres/
ATTACH;FMTTYPE=image/png:https://graciacdmx.com/wp-content/uploads/2024/05/25-1.png
END:VEVENT
BEGIN:VEVENT
DTSTART;TZID=America/Mexico_City:20240511T110000
DTEND;TZID=America/Mexico_City:20240511T130000
DTSTAMP:20260422T022258
CREATED:20240426T152519Z
LAST-MODIFIED:20240426T152519Z
UID:5986-1715425200-1715432400@graciacdmx.com
SUMMARY:Reunión de jóvenes
DESCRIPTION:¡Ven con nosotros para tener un tiempo edificante y algunas actividades!
URL:https://graciacdmx.com/evento/reunion-de-jovenes-8/
ATTACH;FMTTYPE=image/png:https://graciacdmx.com/wp-content/uploads/2024/04/27.png
END:VEVENT
BEGIN:VEVENT
DTSTART;TZID=America/Mexico_City:20240509T193000
DTEND;TZID=America/Mexico_City:20240509T203000
DTSTAMP:20260422T022258
CREATED:20240503T180643Z
LAST-MODIFIED:20240503T180643Z
UID:6294-1715283000-1715286600@graciacdmx.com
SUMMARY:Clase de hombres
DESCRIPTION:Conéctate con nosotros por zoom para conocer cómo puedes hacer iglesia en casa
URL:https://graciacdmx.com/evento/clase-de-hombres/
ATTACH;FMTTYPE=image/png:https://graciacdmx.com/wp-content/uploads/2024/05/26-1.png
END:VEVENT
BEGIN:VEVENT
DTSTART;TZID=America/Mexico_City:20240507T193000
DTEND;TZID=America/Mexico_City:20240507T203000
DTSTAMP:20260422T022258
CREATED:20240503T175147Z
LAST-MODIFIED:20240503T175211Z
UID:6281-1715110200-1715113800@graciacdmx.com
SUMMARY:Clases de Mujeres
DESCRIPTION:Conéctate con nosotros por zoom para conocer cómo puedes hacer iglesia en casa
URL:https://graciacdmx.com/evento/clases-de-mujeres/
ATTACH;FMTTYPE=image/png:https://graciacdmx.com/wp-content/uploads/2024/05/25-1.png
END:VEVENT
BEGIN:VEVENT
DTSTART;TZID=America/Mexico_City:20240427T170000
DTEND;TZID=America/Mexico_City:20240427T183000
DTSTAMP:20260422T022258
CREATED:20240322T171156Z
LAST-MODIFIED:20240322T171156Z
UID:5903-1714237200-1714242600@graciacdmx.com
SUMMARY:Celebración día del niño
DESCRIPTION:Invita a tus niños a festejar el día del niño con nosotros
URL:https://graciacdmx.com/evento/celebracion-dia-del-nino/
ATTACH;FMTTYPE=image/png:https://graciacdmx.com/wp-content/uploads/2024/03/DIA-DEL-NINO.png
END:VEVENT
BEGIN:VEVENT
DTSTART;TZID=America/Mexico_City:20240427T170000
DTEND;TZID=America/Mexico_City:20240427T180000
DTSTAMP:20260422T022258
CREATED:20240315T214956Z
LAST-MODIFIED:20240315T214956Z
UID:5730-1714237200-1714240800@graciacdmx.com
SUMMARY:Cena de matrimonios
DESCRIPTION:Asiste con nosotros para edificarnos como matrimonios y tener un tiempo de compañerismo
URL:https://graciacdmx.com/evento/cena-de-matrimonios-2/
ATTACH;FMTTYPE=image/png:https://graciacdmx.com/wp-content/uploads/2024/03/anuncios-para-sitio-web-6.png
END:VEVENT
BEGIN:VEVENT
DTSTART;TZID=America/Mexico_City:20240414T180000
DTEND;TZID=America/Mexico_City:20240414T193000
DTSTAMP:20260422T022258
CREATED:20240315T214729Z
LAST-MODIFIED:20240322T165853Z
UID:5727-1713117600-1713123000@graciacdmx.com
SUMMARY:Celebración PM - Sabiduría bíblica #2
DESCRIPTION:Tema: Errores comunes en los padres
URL:https://graciacdmx.com/evento/celebracion-pm-sabiduria-biblica-2/
ATTACH;FMTTYPE=image/png:https://graciacdmx.com/wp-content/uploads/2024/03/celebracion-pm-web.png
END:VEVENT
BEGIN:VEVENT
DTSTART;TZID=America/Mexico_City:20240413T110000
DTEND;TZID=America/Mexico_City:20240413T130000
DTSTAMP:20260422T022258
CREATED:20240315T214403Z
LAST-MODIFIED:20240315T214403Z
UID:5723-1713006000-1713013200@graciacdmx.com
SUMMARY:Reunión de jóvenes
DESCRIPTION:Tema: ¿Cómo aconsejar a alguien que batalla con odio?
URL:https://graciacdmx.com/evento/reunion-de-jovenes-7/
ATTACH;FMTTYPE=image/png:https://graciacdmx.com/wp-content/uploads/2024/03/anuncios-para-sitio-web-4.png
END:VEVENT
BEGIN:VEVENT
DTSTART;TZID=America/Mexico_City:20240406T103000
DTEND;TZID=America/Mexico_City:20240406T113000
DTSTAMP:20260422T022258
CREATED:20240315T214102Z
LAST-MODIFIED:20240315T214102Z
UID:5720-1712399400-1712403000@graciacdmx.com
SUMMARY:Desayuno para nuevos
DESCRIPTION:Si llevas menos de 6 meses visitando Gracia Abundante\, ¡te invitamos a desayunar con nosotros y que conozca nuestra visión!
URL:https://graciacdmx.com/evento/desayuno-para-nuevos-2/
ATTACH;FMTTYPE=image/png:https://graciacdmx.com/wp-content/uploads/2024/03/anuncios-para-sitio-web-2.png
END:VEVENT
BEGIN:VEVENT
DTSTART;TZID=America/Mexico_City:20240330T090000
DTEND;TZID=America/Mexico_City:20240330T100000
DTSTAMP:20260422T022258
CREATED:20240203T215525Z
LAST-MODIFIED:20240203T215525Z
UID:4662-1711789200-1711792800@graciacdmx.com
SUMMARY:Clase 6: La adoración congregacional
DESCRIPTION:En esta clase conoceremos el rol que tiene la adoración congregacional en el proceso de cambio de las personas.
URL:https://graciacdmx.com/evento/clase-6-la-adoracion-congregacional/
ATTACH;FMTTYPE=image/png:https://graciacdmx.com/wp-content/uploads/2024/02/CLASE-DE-MUJERES-Y-HOMBRES-WEB.png
END:VEVENT
BEGIN:VEVENT
DTSTART;TZID=America/Mexico_City:20240329T133000
DTEND;TZID=America/Mexico_City:20240329T143000
DTSTAMP:20260422T022258
CREATED:20240301T170937Z
LAST-MODIFIED:20240301T171012Z
UID:5369-1711719000-1711722600@graciacdmx.com
SUMMARY:Celebración de crucifixión
DESCRIPTION:La importancia de la cruz –  Viernes 29 a la 1:30 pm
URL:https://graciacdmx.com/evento/celebracion-de-crucifixion/
ATTACH;FMTTYPE=image/png:https://graciacdmx.com/wp-content/uploads/2024/03/web-crucifixion.png
END:VEVENT
BEGIN:VEVENT
DTSTART;TZID=America/Mexico_City:20240323T090000
DTEND;TZID=America/Mexico_City:20240323T100000
DTSTAMP:20260422T022258
CREATED:20240203T215402Z
LAST-MODIFIED:20240203T215402Z
UID:4660-1711184400-1711188000@graciacdmx.com
SUMMARY:Clase 5: La adoración privada
DESCRIPTION:En esta clase veremos la importancia que tiene la adoración privada en cada circunstancia que viven los creyentes.
URL:https://graciacdmx.com/evento/clase-5-la-adoracion-privada/
ATTACH;FMTTYPE=image/png:https://graciacdmx.com/wp-content/uploads/2024/02/CLASE-DE-MUJERES-Y-HOMBRES-WEB.png
END:VEVENT
BEGIN:VEVENT
DTSTART;TZID=America/Mexico_City:20240316T100000
DTEND;TZID=America/Mexico_City:20240316T120000
DTSTAMP:20260422T022258
CREATED:20240315T213821Z
LAST-MODIFIED:20240315T213821Z
UID:5716-1710583200-1710590400@graciacdmx.com
SUMMARY:Reunión de Jóvenes
DESCRIPTION:Te invitamos a nuestra reunión mensual de Jóvenes. El pastor Josué compartirá con nosotros un mensaje que edificará tu vida.
URL:https://graciacdmx.com/evento/reunion-de-jovenes-6/
ATTACH;FMTTYPE=image/png:https://graciacdmx.com/wp-content/uploads/2024/03/anuncios-para-sitio-web.png
END:VEVENT
BEGIN:VEVENT
DTSTART;TZID=America/Mexico_City:20240316T090000
DTEND;TZID=America/Mexico_City:20240316T100000
DTSTAMP:20260422T022258
CREATED:20240203T215220Z
LAST-MODIFIED:20240203T215220Z
UID:4657-1710579600-1710583200@graciacdmx.com
SUMMARY:Clase 4: El ayuno
DESCRIPTION:En esta clase aprenderemos las distintas maneras de ayunar y la importancia que tiene en la santificación personal.
URL:https://graciacdmx.com/evento/clase-4-el-ayuno/
ATTACH;FMTTYPE=image/png:https://graciacdmx.com/wp-content/uploads/2024/02/CLASE-DE-MUJERES-Y-HOMBRES-WEB.png
END:VEVENT
BEGIN:VEVENT
DTSTART;TZID=America/Mexico_City:20240309T100000
DTEND;TZID=America/Mexico_City:20240309T170000
DTSTAMP:20260422T022258
CREATED:20240228T154651Z
LAST-MODIFIED:20240228T154651Z
UID:5365-1709978400-1710003600@graciacdmx.com
SUMMARY:Por Su Reino
DESCRIPTION:Este evento teológico tiene como objetivo explorar y profundizar en la importancia y relevancia de las Escrituras en la vida cristiana. ¡Más información aquí!
URL:https://graciacdmx.com/evento/por-su-reino/
ATTACH;FMTTYPE=image/png:https://graciacdmx.com/wp-content/uploads/2023/12/1.png
END:VEVENT
BEGIN:VEVENT
DTSTART;TZID=America/Mexico_City:20240302T090000
DTEND;TZID=America/Mexico_City:20240302T100000
DTSTAMP:20260422T022258
CREATED:20240203T215049Z
LAST-MODIFIED:20240203T215049Z
UID:4655-1709370000-1709373600@graciacdmx.com
SUMMARY:Clase 3: La oración
DESCRIPTION:En esta clase conoceremos los diferentes elementos que componen la oración bíblica y su uso dentro del proceso de santificación personal.
URL:https://graciacdmx.com/evento/clase-3-la-oracion/
ATTACH;FMTTYPE=image/png:https://graciacdmx.com/wp-content/uploads/2024/02/CLASE-DE-MUJERES-Y-HOMBRES-WEB.png
END:VEVENT
BEGIN:VEVENT
DTSTART;TZID=America/Mexico_City:20240224T090000
DTEND;TZID=America/Mexico_City:20240224T100000
DTSTAMP:20260422T022258
CREATED:20240203T214826Z
LAST-MODIFIED:20240203T214826Z
UID:4653-1708765200-1708768800@graciacdmx.com
SUMMARY:Clase 2: La meditación y memorización
DESCRIPTION:En esta clase veremos la importancia que tiene la meditación y memorización de la Escritura en el proceso de santificación personal.
URL:https://graciacdmx.com/evento/clase-2-la-meditacion-y-memorizacion/
ATTACH;FMTTYPE=image/png:https://graciacdmx.com/wp-content/uploads/2024/02/CLASE-DE-MUJERES-Y-HOMBRES-WEB.png
END:VEVENT
BEGIN:VEVENT
DTSTART;TZID=America/Mexico_City:20240217T090000
DTEND;TZID=America/Mexico_City:20240217T100000
DTSTAMP:20260422T022258
CREATED:20240202T153233Z
LAST-MODIFIED:20240202T153233Z
UID:4648-1708160400-1708164000@graciacdmx.com
SUMMARY:Clase 1: La lectura y el estudio de la Biblia
DESCRIPTION:En esta clase conoceremos algunas maneras prácticas de estudiar la Biblia y su aplicación en diferentes circunstancias que viven los creyentes.
URL:https://graciacdmx.com/evento/clase-1-la-lectura-y-el-estudio-de-la-biblia/
ATTACH;FMTTYPE=image/png:https://graciacdmx.com/wp-content/uploads/2024/02/CLASE-DE-MUJERES-Y-HOMBRES-WEB.png
END:VEVENT
BEGIN:VEVENT
DTSTART;TZID=America/Mexico_City:20240210T110000
DTEND;TZID=America/Mexico_City:20240210T130000
DTSTAMP:20260422T022258
CREATED:20240125T174727Z
LAST-MODIFIED:20240202T151706Z
UID:4608-1707562800-1707570000@graciacdmx.com
SUMMARY:Reunión de Jóvenes
DESCRIPTION:En esta reunión veremos cómo aconsejar a alguien que batalla con adicciones
URL:https://graciacdmx.com/evento/reunion-de-jovenes-5/
ATTACH;FMTTYPE=image/jpeg:https://graciacdmx.com/wp-content/uploads/2024/01/WhatsApp-Image-2024-01-25-at-11.44.13.jpeg
END:VEVENT
BEGIN:VEVENT
DTSTART;TZID=America/Mexico_City:20240208T170000
DTEND;TZID=America/Mexico_City:20240208T200000
DTSTAMP:20260422T022258
CREATED:20240124T171223Z
LAST-MODIFIED:20240124T171223Z
UID:4602-1707411600-1707422400@graciacdmx.com
SUMMARY:Conferencia: Apologética Pro Vida
DESCRIPTION:Jueves 8 de febrero de 5pm a las 8 pm en el nuevo edificio
URL:https://graciacdmx.com/evento/conferencia-apologetica-pro-vida/
ATTACH;FMTTYPE=image/png:https://graciacdmx.com/wp-content/uploads/2024/01/WEB-PRO-VIDA-1.png
END:VEVENT
BEGIN:VEVENT
DTSTART;TZID=America/Mexico_City:20240203T100000
DTEND;TZID=America/Mexico_City:20240203T170000
DTSTAMP:20260422T022258
CREATED:20240112T210511Z
LAST-MODIFIED:20240112T210511Z
UID:4598-1706954400-1706979600@graciacdmx.com
SUMMARY:Capacitación para servidores
DESCRIPTION:Si estás en un equipo de servicio\, te animamos a que vengas a nuestra capacitación.
URL:https://graciacdmx.com/evento/capacitacion-para-servidores/
ATTACH;FMTTYPE=image/png:https://graciacdmx.com/wp-content/uploads/2024/01/PAGINA-WEB.png
END:VEVENT
BEGIN:VEVENT
DTSTART;TZID=America/Mexico_City:20240125T000000
DTEND;TZID=America/Mexico_City:20240125T000000
DTSTAMP:20260422T022258
CREATED:20240125T174338Z
LAST-MODIFIED:20240125T174439Z
UID:4605-1706140800-1706140800@graciacdmx.com
SUMMARY:Celebración especial pm
DESCRIPTION:Comenzamos nuestra nueva temporada de clases por la tarde. En esta ocasión\, hablaremos sobre la sabiduría de Dios en diferentes áreas de la vida.
URL:https://graciacdmx.com/evento/celebracion-especial-pm/
ATTACH;FMTTYPE=image/jpeg:https://graciacdmx.com/wp-content/uploads/2024/01/WhatsApp-Image-2024-01-25-at-11.44.08.jpeg
END:VEVENT
BEGIN:VEVENT
DTSTART;TZID=America/Mexico_City:20240107T090000
DTEND;TZID=America/Mexico_City:20240107T170000
DTSTAMP:20260422T022258
CREATED:20231122T171134Z
LAST-MODIFIED:20231130T213709Z
UID:4147-1704618000-1704646800@graciacdmx.com
SUMMARY:Horario de invierno
DESCRIPTION:Recuerda\, únicamente tendremos dos celebraciones: 9:00 am y 11:00 am. Regístralo en tu calendario y pasa la voz.
URL:https://graciacdmx.com/evento/horario-de-invierno-2/
ATTACH;FMTTYPE=image/png:https://graciacdmx.com/wp-content/uploads/2023/11/anuncios-para-sitio-web-2-1.png
END:VEVENT
BEGIN:VEVENT
DTSTART;TZID=America/Mexico_City:20231231T090000
DTEND;TZID=America/Mexico_City:20231231T170000
DTSTAMP:20260422T022258
CREATED:20231122T171044Z
LAST-MODIFIED:20231130T213647Z
UID:4144-1704013200-1704042000@graciacdmx.com
SUMMARY:Horario de invierno
DESCRIPTION:Recuerda\, únicamente tendremos dos celebraciones: 9:00 am y 11:00 am. Regístralo en tu calendario y pasa la voz.
URL:https://graciacdmx.com/evento/horario-de-invierno/
ATTACH;FMTTYPE=image/png:https://graciacdmx.com/wp-content/uploads/2023/11/anuncios-para-sitio-web-2-1.png
END:VEVENT
BEGIN:VEVENT
DTSTART;TZID=America/Mexico_City:20231224T090000
DTEND;TZID=America/Mexico_City:20231224T170000
DTSTAMP:20260422T022258
CREATED:20231122T170904Z
LAST-MODIFIED:20231130T213505Z
UID:4140-1703408400-1703437200@graciacdmx.com
SUMMARY:Celebrando la navidad
DESCRIPTION:¡Te invitamos a celebrar el nacimiento de nuestro Rey con nosotros! Únicamente tendremos dos celebraciones (9:00 am y 11:00 am).
URL:https://graciacdmx.com/evento/celebrando-la-navidad/
ATTACH;FMTTYPE=image/png:https://graciacdmx.com/wp-content/uploads/2023/11/anuncios-para-sitio-web.png
END:VEVENT
BEGIN:VEVENT
DTSTART;TZID=America/Mexico_City:20231216T180000
DTEND;TZID=America/Mexico_City:20231216T193000
DTSTAMP:20260422T022258
CREATED:20231013T215110Z
LAST-MODIFIED:20231130T213202Z
UID:4083-1702749600-1702755000@graciacdmx.com
SUMMARY:Festival navideño
DESCRIPTION:¡Te esperamos para nuestro festival navideño! Tendremos alabanzas navideñas\, una clase especial sobre el nacimiento de Jesús\, manualidades\, cantos de los niños\, ponche y algunas sorpresas.
URL:https://graciacdmx.com/evento/festival-navideno/
ATTACH;FMTTYPE=image/png:https://graciacdmx.com/wp-content/uploads/2023/10/17.png
END:VEVENT
BEGIN:VEVENT
DTSTART;TZID=America/Mexico_City:20231216T080000
DTEND;TZID=America/Mexico_City:20231216T170000
DTSTAMP:20260422T022258
CREATED:20231013T214927Z
LAST-MODIFIED:20231130T213231Z
UID:4080-1702713600-1702746000@graciacdmx.com
SUMMARY:Reunión de jóvenes
DESCRIPTION:¡Ven con nosotros a nuestra última reunión del año! Te daremos algunos consejos prácticos para que descubras el llamado de Dios para tu vida. Al finalizar\, tendremos nuestro intercambio navideño.
URL:https://graciacdmx.com/evento/reunion-de-jovenes-4/
ATTACH;FMTTYPE=image/png:https://graciacdmx.com/wp-content/uploads/2023/10/16.png
END:VEVENT
BEGIN:VEVENT
DTSTART;TZID=America/Mexico_City:20231209T100000
DTEND;TZID=America/Mexico_City:20231209T110000
DTSTAMP:20260422T022258
CREATED:20231013T211659Z
LAST-MODIFIED:20231013T211659Z
UID:4052-1702116000-1702119600@graciacdmx.com
SUMMARY:Capacitación para mujeres - Reunión 6
DESCRIPTION:Guía para que las mujeres aprendan a cultivar virtudes para reflejar a Cristo en cada área de su vida con sabiduría.
URL:https://graciacdmx.com/evento/capacitacion-para-mujeres-reunion-6/
ATTACH;FMTTYPE=image/png:https://graciacdmx.com/wp-content/uploads/2023/10/10.png
END:VEVENT
BEGIN:VEVENT
DTSTART;TZID=America/Mexico_City:20231209T090000
DTEND;TZID=America/Mexico_City:20231209T100000
DTSTAMP:20260422T022258
CREATED:20231013T213255Z
LAST-MODIFIED:20231013T213255Z
UID:4068-1702112400-1702116000@graciacdmx.com
SUMMARY:Capacitación para hombres - Reunión 6
DESCRIPTION:Examinando nuestro corazón a la luz del mandato que Dios le dio al hombre de cultivar y cuidar a Su creación.
URL:https://graciacdmx.com/evento/capacitacion-para-hombres-reunion-6/
ATTACH;FMTTYPE=image/png:https://graciacdmx.com/wp-content/uploads/2023/10/11.png
END:VEVENT
END:VCALENDAR