BEGIN:VCALENDAR
VERSION:2.0
PRODID:-//Iglesia Bautista Gracia Abundante - Iglesia Cristiana en Ciudad de México - ECPv6.8.1//NONSGML v1.0//EN
CALSCALE:GREGORIAN
METHOD:PUBLISH
X-ORIGINAL-URL:https://graciacdmx.com
X-WR-CALDESC:Eventos para Iglesia Bautista Gracia Abundante - Iglesia Cristiana en Ciudad de México
REFRESH-INTERVAL;VALUE=DURATION:PT1H
X-Robots-Tag:noindex
X-PUBLISHED-TTL:PT1H
BEGIN:VTIMEZONE
TZID:America/Mexico_City
BEGIN:DAYLIGHT
TZOFFSETFROM:-0600
TZOFFSETTO:-0500
TZNAME:CDT
DTSTART:20240407T080000
END:DAYLIGHT
BEGIN:STANDARD
TZOFFSETFROM:-0500
TZOFFSETTO:-0600
TZNAME:CST
DTSTART:20241027T070000
END:STANDARD
BEGIN:DAYLIGHT
TZOFFSETFROM:-0600
TZOFFSETTO:-0500
TZNAME:CDT
DTSTART:20250406T080000
END:DAYLIGHT
BEGIN:STANDARD
TZOFFSETFROM:-0500
TZOFFSETTO:-0600
TZNAME:CST
DTSTART:20251026T070000
END:STANDARD
END:VTIMEZONE
BEGIN:VEVENT
DTSTART;TZID=America/Mexico_City:20250222T090000
DTEND;TZID=America/Mexico_City:20250222T100000
DTSTAMP:20260421T201245
CREATED:20250109T164328Z
LAST-MODIFIED:20250109T164328Z
UID:9259-1740214800-1740218400@graciacdmx.com
SUMMARY:Fundamentos del Reino
DESCRIPTION:¡Forma parte de nuestro programa académico para hombres y mujeres!\nDurante este año estaremos aprendiendo teología bíblica.
URL:https://graciacdmx.com/evento/fundamentos-del-reino-4/
ATTACH;FMTTYPE=image/png:https://graciacdmx.com/wp-content/uploads/2025/01/fundamentos-del-reino-1.png
END:VEVENT
BEGIN:VEVENT
DTSTART;TZID=America/Mexico_City:20250215T090000
DTEND;TZID=America/Mexico_City:20250215T100000
DTSTAMP:20260421T201245
CREATED:20250109T164238Z
LAST-MODIFIED:20250109T164238Z
UID:9256-1739610000-1739613600@graciacdmx.com
SUMMARY:Fundamentos del Reino
DESCRIPTION:¡Forma parte de nuestro programa académico para hombres y mujeres!\nDurante este año estaremos aprendiendo teología bíblica.
URL:https://graciacdmx.com/evento/fundamentos-del-reino-3/
ATTACH;FMTTYPE=image/png:https://graciacdmx.com/wp-content/uploads/2025/01/fundamentos-del-reino-1.png
END:VEVENT
BEGIN:VEVENT
DTSTART;TZID=America/Mexico_City:20250209T083000
DTEND;TZID=America/Mexico_City:20250209T170000
DTSTAMP:20260421T201245
CREATED:20250204T194051Z
LAST-MODIFIED:20250204T194051Z
UID:9362-1739089800-1739120400@graciacdmx.com
SUMMARY:Domingo de Amigos
DESCRIPTION:Te invitamos a traer el Jersey de tu equipo favorito\, un alimento para compartir e invitar a un amigo que no conozca del Evangelio.
URL:https://graciacdmx.com/evento/domingo-de-amigos-3/
ATTACH;FMTTYPE=image/png:https://graciacdmx.com/wp-content/uploads/2025/02/DOMINGO-DE-AMIGOS.png
END:VEVENT
BEGIN:VEVENT
DTSTART;TZID=America/Mexico_City:20250208T103000
DTEND;TZID=America/Mexico_City:20250208T120000
DTSTAMP:20260421T201245
CREATED:20250109T155202Z
LAST-MODIFIED:20250109T155202Z
UID:9223-1739010600-1739016000@graciacdmx.com
SUMMARY:Generación del Reino
DESCRIPTION:¡Te invitamos a nuestra reunión mensual para jóvenes!\nTendremos un tiempo de cantos\, un estudio bíblico y actividades de compañerismo.
URL:https://graciacdmx.com/evento/generacion-del-reino-2/
ATTACH;FMTTYPE=image/png:https://graciacdmx.com/wp-content/uploads/2025/01/web_-1.png
END:VEVENT
BEGIN:VEVENT
DTSTART;TZID=America/Mexico_City:20250208T090000
DTEND;TZID=America/Mexico_City:20250208T100000
DTSTAMP:20260421T201245
CREATED:20250109T164114Z
LAST-MODIFIED:20250109T164114Z
UID:9253-1739005200-1739008800@graciacdmx.com
SUMMARY:Fundamentos del Reino
DESCRIPTION:¡Forma parte de nuestro programa académico para hombres y mujeres!\nDurante este año estaremos aprendiendo teología bíblica.
URL:https://graciacdmx.com/evento/fundamentos-del-reino-2/
ATTACH;FMTTYPE=image/png:https://graciacdmx.com/wp-content/uploads/2025/01/fundamentos-del-reino-1.png
END:VEVENT
BEGIN:VEVENT
DTSTART;TZID=America/Mexico_City:20250202T180000
DTEND;TZID=America/Mexico_City:20250202T190000
DTSTAMP:20260421T201245
CREATED:20250109T171351Z
LAST-MODIFIED:20250109T171351Z
UID:9292-1738519200-1738522800@graciacdmx.com
SUMMARY:Domingos de Gracia
DESCRIPTION:¡Regresa este domingo para un estudio especial y tiempo de compañerismo!\nTema: Teología bíblica de la sexualidad
URL:https://graciacdmx.com/evento/domingos-de-gracia/
ATTACH;FMTTYPE=image/png:https://graciacdmx.com/wp-content/uploads/2025/01/1-5.png
END:VEVENT
BEGIN:VEVENT
DTSTART;TZID=America/Mexico_City:20250201T100000
DTEND;TZID=America/Mexico_City:20250201T110000
DTSTAMP:20260421T201245
CREATED:20250109T180043Z
LAST-MODIFIED:20250109T180043Z
UID:9305-1738404000-1738407600@graciacdmx.com
SUMMARY:Capacitación general para Servidores
DESCRIPTION:Si estás en un equipo de servicio\, recuerda que este día tenemos nuestra primera capacitación del año.\n¡Esperamos contar con tu participación!
URL:https://graciacdmx.com/evento/capacitacion-general-para-servidores/
ATTACH;FMTTYPE=image/png:https://graciacdmx.com/wp-content/uploads/2025/01/1-6.png
END:VEVENT
BEGIN:VEVENT
DTSTART;TZID=America/Mexico_City:20250201T090000
DTEND;TZID=America/Mexico_City:20250201T100000
DTSTAMP:20260421T201245
CREATED:20250109T163942Z
LAST-MODIFIED:20250109T163942Z
UID:9250-1738400400-1738404000@graciacdmx.com
SUMMARY:Fundamentos del Reino
DESCRIPTION:¡Forma parte de nuestro programa académico para hombres y mujeres!\nDurante este año estaremos aprendiendo teología bíblica.
URL:https://graciacdmx.com/evento/fundamentos-del-reino/
ATTACH;FMTTYPE=image/png:https://graciacdmx.com/wp-content/uploads/2025/01/fundamentos-del-reino-1.png
END:VEVENT
BEGIN:VEVENT
DTSTART;TZID=America/Mexico_City:20250111T110000
DTEND;TZID=America/Mexico_City:20250111T123000
DTSTAMP:20260421T201245
CREATED:20250109T155049Z
LAST-MODIFIED:20250109T155049Z
UID:9220-1736593200-1736598600@graciacdmx.com
SUMMARY:Generación del Reino
DESCRIPTION:¡Te invitamos a nuestra reunión mensual para jóvenes!\nTendremos un tiempo de cantos\, un estudio bíblico y actividades de compañerismo.
URL:https://graciacdmx.com/evento/generacion-del-reino/
ATTACH;FMTTYPE=image/png:https://graciacdmx.com/wp-content/uploads/2025/01/web_-1.png
END:VEVENT
BEGIN:VEVENT
DTSTART;TZID=America/Mexico_City:20250109T080000
DTEND;TZID=America/Mexico_City:20250109T170000
DTSTAMP:20260421T201245
CREATED:20250109T180707Z
LAST-MODIFIED:20250109T180707Z
UID:9308-1736409600-1736442000@graciacdmx.com
SUMMARY:Descubriendo Gracia
DESCRIPTION:Si llevas menos de seis meses asistiendo a Gracia Abundante\, te invitamos a nuestro desayuno para personas nuevas.\n¡Conoce cuál es nuestra misión y los fundamentos de nuestra iglesia!
URL:https://graciacdmx.com/evento/descubriendo-gracia/
ATTACH;FMTTYPE=image/png:https://graciacdmx.com/wp-content/uploads/2025/01/1-7.png
END:VEVENT
BEGIN:VEVENT
DTSTART;TZID=America/Mexico_City:20250105T080000
DTEND;TZID=America/Mexico_City:20250105T130000
DTSTAMP:20260421T201245
CREATED:20241127T211452Z
LAST-MODIFIED:20241127T211452Z
UID:9125-1736064000-1736082000@graciacdmx.com
SUMMARY:Horario de invierno
DESCRIPTION:¡Recuerda que tendremos 2 horarios!\nCelebración: 9:00 am & 11:00 am
URL:https://graciacdmx.com/evento/horario-de-invierno-4/
ATTACH;FMTTYPE=image/png:https://graciacdmx.com/wp-content/uploads/2024/11/anuncios-para-sitio-web-4.png
END:VEVENT
BEGIN:VEVENT
DTSTART;TZID=America/Mexico_City:20241229T080000
DTEND;TZID=America/Mexico_City:20241229T130000
DTSTAMP:20260421T201245
CREATED:20241127T211400Z
LAST-MODIFIED:20241127T211400Z
UID:9122-1735459200-1735477200@graciacdmx.com
SUMMARY:Horario de invierno
DESCRIPTION:¡Recuerda que tendremos 2 horarios!\nCelebración: 9:00 am & 11:00 am
URL:https://graciacdmx.com/evento/horario-de-invierno-3/
ATTACH;FMTTYPE=image/png:https://graciacdmx.com/wp-content/uploads/2024/11/anuncios-para-sitio-web-4.png
END:VEVENT
BEGIN:VEVENT
DTSTART;TZID=America/Mexico_City:20241214T150000
DTEND;TZID=America/Mexico_City:20241214T170000
DTSTAMP:20260421T201245
CREATED:20241127T205304Z
LAST-MODIFIED:20241127T205304Z
UID:9115-1734188400-1734195600@graciacdmx.com
SUMMARY:Reunión de jóvenes
DESCRIPTION:Nos vemos el sábado 14 de diciembre a las 3pm para nuestra REUNIÓN ESPECIAL de fin de año.\nTendremos:\n🎶 Tiempo de cantos juntos\n🙏 Tiempo de oración juntos\n🤔 Reflexión de nuestro año juntos\n📙 Estudio Bíblico\n🎁 Intercambio\, pizza\, juegos y convivencia
URL:https://graciacdmx.com/evento/reunion-de-jovenes-14/
ATTACH;FMTTYPE=image/png:https://graciacdmx.com/wp-content/uploads/2024/11/anuncios-para-sitio-web-2-1.png
END:VEVENT
BEGIN:VEVENT
DTSTART;TZID=America/Mexico_City:20241208T083000
DTEND;TZID=America/Mexico_City:20241208T150000
DTSTAMP:20260421T201245
CREATED:20241127T210516Z
LAST-MODIFIED:20241127T210516Z
UID:9119-1733646600-1733670000@graciacdmx.com
SUMMARY:Celebración Especial Navideña
DESCRIPTION:¡Celebra con nosotros la navidad!\nUsa tu suéter navideño favorito y recordemos juntos el nacimiento de nuestro Rey
URL:https://graciacdmx.com/evento/celebracion-especial-navidena/
ATTACH;FMTTYPE=image/png:https://graciacdmx.com/wp-content/uploads/2024/11/anuncios-para-sitio-web-3.png
END:VEVENT
BEGIN:VEVENT
DTSTART;TZID=America/Mexico_City:20241130T103000
DTEND;TZID=America/Mexico_City:20241130T113000
DTSTAMP:20260421T201245
CREATED:20241127T181720Z
LAST-MODIFIED:20241127T181720Z
UID:9110-1732962600-1732966200@graciacdmx.com
SUMMARY:Desayuno de nuevos
DESCRIPTION:Si llevas menos de seis meses visitando Gracia Abundante\, ven con nosotros a un desayuno especial que tenemos para ti.\nEse día podrás conocer más sobre quiénes somos y el propósito de la iglesia.
URL:https://graciacdmx.com/evento/desayuno-de-nuevos-2/
ATTACH;FMTTYPE=image/png:https://graciacdmx.com/wp-content/uploads/2024/11/anuncios-para-sitio-web.png
END:VEVENT
BEGIN:VEVENT
DTSTART;TZID=America/Mexico_City:20241123T090000
DTEND;TZID=America/Mexico_City:20241123T140000
DTSTAMP:20260421T201245
CREATED:20240726T205422Z
LAST-MODIFIED:20241017T155748Z
UID:6921-1732352400-1732370400@graciacdmx.com
SUMMARY:Capacitación de evangelismo
DESCRIPTION:El ministerio «Living Waters en Español» estará con nosotros para enseñarnos a compartir el evangelio. ¡Te esperamos!
URL:https://graciacdmx.com/evento/capacitacion-de-evangelismo/
ATTACH;FMTTYPE=image/png:https://graciacdmx.com/wp-content/uploads/2024/07/anuncios-para-sitio-web-8.png
END:VEVENT
BEGIN:VEVENT
DTSTART;TZID=America/Mexico_City:20241123T090000
DTEND;TZID=America/Mexico_City:20241123T100000
DTSTAMP:20260421T201245
CREATED:20240726T210002Z
LAST-MODIFIED:20240726T210002Z
UID:6935-1732352400-1732356000@graciacdmx.com
SUMMARY:Clases de hombres y mujeres
DESCRIPTION:Módulo III de Consejería Bíblica
URL:https://graciacdmx.com/evento/clases-de-hombres-y-mujeres-3/
ATTACH;FMTTYPE=image/png:https://graciacdmx.com/wp-content/uploads/2024/07/anuncios-para-sitio-web-5.png
END:VEVENT
BEGIN:VEVENT
DTSTART;TZID=America/Mexico_City:20241116T090000
DTEND;TZID=America/Mexico_City:20241116T100000
DTSTAMP:20260421T201245
CREATED:20240726T205849Z
LAST-MODIFIED:20240726T205849Z
UID:6932-1731747600-1731751200@graciacdmx.com
SUMMARY:Clases para hombres y mujeres
DESCRIPTION:Módulo III de Consejería Bíblica
URL:https://graciacdmx.com/evento/clases-para-hombres-y-mujeres/
ATTACH;FMTTYPE=image/png:https://graciacdmx.com/wp-content/uploads/2024/07/anuncios-para-sitio-web-5.png
END:VEVENT
BEGIN:VEVENT
DTSTART;TZID=America/Mexico_City:20241110T080000
DTEND;TZID=America/Mexico_City:20241110T170000
DTSTAMP:20260421T201245
CREATED:20240726T204314Z
LAST-MODIFIED:20240726T204314Z
UID:6898-1731225600-1731258000@graciacdmx.com
SUMMARY:Expo-ministerios
DESCRIPTION:¡Conoce las diferentes oportunidades para edificar el cuerpo de Cristo!
URL:https://graciacdmx.com/evento/expo-ministerios/
ATTACH;FMTTYPE=image/png:https://graciacdmx.com/wp-content/uploads/2024/07/anuncios-para-sitio-web-7.png
END:VEVENT
BEGIN:VEVENT
DTSTART;TZID=America/Mexico_City:20241109T090000
DTEND;TZID=America/Mexico_City:20241109T100000
DTSTAMP:20260421T201245
CREATED:20240726T205759Z
LAST-MODIFIED:20240726T205759Z
UID:6929-1731142800-1731146400@graciacdmx.com
SUMMARY:Clases de hombres y mujeres
DESCRIPTION:Módulo III de Consejería Bíblica
URL:https://graciacdmx.com/evento/clases-de-hombres-y-mujeres-2/
ATTACH;FMTTYPE=image/png:https://graciacdmx.com/wp-content/uploads/2024/07/anuncios-para-sitio-web-5.png
END:VEVENT
BEGIN:VEVENT
DTSTART;TZID=America/Mexico_City:20241109T080000
DTEND;TZID=America/Mexico_City:20241109T170000
DTSTAMP:20260421T201245
CREATED:20240726T205220Z
LAST-MODIFIED:20240726T205220Z
UID:6918-1731139200-1731171600@graciacdmx.com
SUMMARY:Reunión de jóvenes
DESCRIPTION:¡Ven con nosotros para tener un tiempo edificante y algunas actividades!
URL:https://graciacdmx.com/evento/reunion-de-jovenes-13/
ATTACH;FMTTYPE=image/png:https://graciacdmx.com/wp-content/uploads/2024/07/2.png
END:VEVENT
BEGIN:VEVENT
DTSTART;TZID=America/Mexico_City:20241102T170000
DTEND;TZID=America/Mexico_City:20241102T190000
DTSTAMP:20260421T201245
CREATED:20240726T204116Z
LAST-MODIFIED:20241017T155718Z
UID:6895-1730566800-1730574000@graciacdmx.com
SUMMARY:Proyecto 4:33
DESCRIPTION:¡Ven a conocer a nuestros misioneros y renovar la promesa de fe!
URL:https://graciacdmx.com/evento/proyecto-433-2/
ATTACH;FMTTYPE=image/png:https://graciacdmx.com/wp-content/uploads/2024/07/WEB-PROYECTO-4-33.png
END:VEVENT
BEGIN:VEVENT
DTSTART;TZID=America/Mexico_City:20241102T090000
DTEND;TZID=America/Mexico_City:20241102T100000
DTSTAMP:20260421T201245
CREATED:20240726T205707Z
LAST-MODIFIED:20240726T205707Z
UID:6925-1730538000-1730541600@graciacdmx.com
SUMMARY:Clases de hombres y mujeres
DESCRIPTION:Módulo III de Consejería Bíblica
URL:https://graciacdmx.com/evento/clases-de-hombres-y-mujeres/
ATTACH;FMTTYPE=image/png:https://graciacdmx.com/wp-content/uploads/2024/07/anuncios-para-sitio-web-5.png
END:VEVENT
BEGIN:VEVENT
DTSTART;TZID=America/Mexico_City:20241012T110000
DTEND;TZID=America/Mexico_City:20241012T140000
DTSTAMP:20260421T201245
CREATED:20240726T205133Z
LAST-MODIFIED:20240726T205133Z
UID:6915-1728730800-1728741600@graciacdmx.com
SUMMARY:Reunión de jóvenes
DESCRIPTION:¡Ven con nosotros para tener un tiempo edificante y algunas actividades!
URL:https://graciacdmx.com/evento/reunion-de-jovenes-12/
ATTACH;FMTTYPE=image/png:https://graciacdmx.com/wp-content/uploads/2024/07/anuncios-para-sitio-web-6.png
END:VEVENT
BEGIN:VEVENT
DTSTART;TZID=America/Mexico_City:20241005T090000
DTEND;TZID=America/Mexico_City:20241005T100000
DTSTAMP:20260421T201245
CREATED:20240726T203842Z
LAST-MODIFIED:20240726T203842Z
UID:6892-1728118800-1728122400@graciacdmx.com
SUMMARY:Clase de membresía
DESCRIPTION:Ven con nosotros para tener un tiempo edificante y algunas actividades!
URL:https://graciacdmx.com/evento/clase-de-membresia-6/
ATTACH;FMTTYPE=image/png:https://graciacdmx.com/wp-content/uploads/2024/07/anuncios-para-sitio-web-3.png
END:VEVENT
BEGIN:VEVENT
DTSTART;TZID=America/Mexico_City:20240928T100000
DTEND;TZID=America/Mexico_City:20240928T110000
DTSTAMP:20260421T201245
CREATED:20240726T203438Z
LAST-MODIFIED:20240726T203438Z
UID:6886-1727517600-1727521200@graciacdmx.com
SUMMARY:Clase de membresía
DESCRIPTION:Si llevas más de seis meses asistiendo regularmente con nosotros\, ¡ven a nuestras clases para futuros miembros!
URL:https://graciacdmx.com/evento/clase-de-membresia-5/
ATTACH;FMTTYPE=image/png:https://graciacdmx.com/wp-content/uploads/2024/07/anuncios-para-sitio-web-3.png
END:VEVENT
BEGIN:VEVENT
DTSTART;TZID=America/Mexico_City:20240925T080000
DTEND;TZID=America/Mexico_City:20240925T170000
DTSTAMP:20260421T201245
CREATED:20240726T204928Z
LAST-MODIFIED:20240726T204928Z
UID:6912-1727251200-1727283600@graciacdmx.com
SUMMARY:Clases por zoom
DESCRIPTION:¡Conéctate con nosotros para conocer sobre cómo podemos crecer a la imagen de Cristo!
URL:https://graciacdmx.com/evento/clases-por-zoom-7/
ATTACH;FMTTYPE=image/png:https://graciacdmx.com/wp-content/uploads/2024/07/anuncios-para-sitio-web.png
END:VEVENT
BEGIN:VEVENT
DTSTART;TZID=America/Mexico_City:20240921T093000
DTEND;TZID=America/Mexico_City:20240921T110000
DTSTAMP:20260421T201245
CREATED:20240726T203343Z
LAST-MODIFIED:20240726T203343Z
UID:6882-1726911000-1726916400@graciacdmx.com
SUMMARY:Clase de membresía
DESCRIPTION:Si llevas más de seis meses asistiendo regularmente con nosotros\, ¡ven a nuestras clases para futuros miembros!
URL:https://graciacdmx.com/evento/clase-de-membresia-4/
ATTACH;FMTTYPE=image/png:https://graciacdmx.com/wp-content/uploads/2024/07/anuncios-para-sitio-web-3.png
END:VEVENT
BEGIN:VEVENT
DTSTART;TZID=America/Mexico_City:20240918T193000
DTEND;TZID=America/Mexico_City:20240918T203000
DTSTAMP:20260421T201245
CREATED:20240726T204819Z
LAST-MODIFIED:20240726T204819Z
UID:6909-1726687800-1726691400@graciacdmx.com
SUMMARY:Clases por zoom
DESCRIPTION:¡Conéctate con nosotros para conocer sobre cómo podemos crecer a la imagen de Cristo!
URL:https://graciacdmx.com/evento/clases-por-zoom-6/
ATTACH;FMTTYPE=image/png:https://graciacdmx.com/wp-content/uploads/2024/07/anuncios-para-sitio-web.png
END:VEVENT
BEGIN:VEVENT
DTSTART;TZID=America/Mexico_City:20240914T110000
DTEND;TZID=America/Mexico_City:20240914T130000
DTSTAMP:20260421T201245
CREATED:20240726T203655Z
LAST-MODIFIED:20240726T203655Z
UID:6889-1726311600-1726318800@graciacdmx.com
SUMMARY:Reunión de jóvenes
DESCRIPTION:Ven con nosotros para tener un tiempo edificante y algunas actividades!
URL:https://graciacdmx.com/evento/reunion-de-jovenes-11/
ATTACH;FMTTYPE=image/png:https://graciacdmx.com/wp-content/uploads/2024/07/2.png
END:VEVENT
END:VCALENDAR