BEGIN:VCALENDAR
VERSION:2.0
PRODID:-//Iglesia Bautista Gracia Abundante - Iglesia Cristiana en Ciudad de México - ECPv6.8.1//NONSGML v1.0//EN
CALSCALE:GREGORIAN
METHOD:PUBLISH
X-WR-CALNAME:Iglesia Bautista Gracia Abundante - Iglesia Cristiana en Ciudad de México
X-ORIGINAL-URL:https://graciacdmx.com
X-WR-CALDESC:Eventos para Iglesia Bautista Gracia Abundante - Iglesia Cristiana en Ciudad de México
REFRESH-INTERVAL;VALUE=DURATION:PT1H
X-Robots-Tag:noindex
X-PUBLISHED-TTL:PT1H
BEGIN:VTIMEZONE
TZID:UTC
BEGIN:STANDARD
TZOFFSETFROM:+0000
TZOFFSETTO:+0000
TZNAME:UTC
DTSTART:20230101T000000
END:STANDARD
END:VTIMEZONE
BEGIN:VEVENT
DTSTART;TZID=UTC:20230826T100000
DTEND;TZID=UTC:20230826T120000
DTSTAMP:20260422T093810
CREATED:20230820T000539Z
LAST-MODIFIED:20230824T190150Z
UID:3654-1693044000-1693051200@graciacdmx.com
SUMMARY:Reunión de jóvenes
DESCRIPTION:Tema: Principales distorsiones de la sexualidad en jóvenes
URL:https://graciacdmx.com/evento/reunion-de-jovenes/
ATTACH;FMTTYPE=image/png:https://graciacdmx.com/wp-content/uploads/2023/08/1.png
END:VEVENT
BEGIN:VEVENT
DTSTART;TZID=UTC:20230826T090000
DTEND;TZID=UTC:20230826T100000
DTSTAMP:20260422T093810
CREATED:20230820T000809Z
LAST-MODIFIED:20230824T185837Z
UID:3657-1693040400-1693044000@graciacdmx.com
SUMMARY:Capacitación Hombres y Mujeres - Reunión 1
DESCRIPTION:Principios de interpretación que guían el entendimiento dispensacionalista de la trama Bíblica
URL:https://graciacdmx.com/evento/capacitacion-hombres-y-mujeres-reunion-1/
ATTACH;FMTTYPE=image/png:https://graciacdmx.com/wp-content/uploads/2023/08/5-1.png
END:VEVENT
BEGIN:VEVENT
DTSTART;TZID=UTC:20230823T193000
DTEND;TZID=UTC:20230823T203000
DTSTAMP:20260422T093810
CREATED:20230820T000228Z
LAST-MODIFIED:20230820T000228Z
UID:3649-1692819000-1692822600@graciacdmx.com
SUMMARY:Clase miércoles - Familias centradas en el evangelio
DESCRIPTION:
URL:https://graciacdmx.com/evento/clase-miercoles-familias-centradas-en-el-evangelio/
ATTACH;FMTTYPE=image/png:https://graciacdmx.com/wp-content/uploads/2023/08/3.png
END:VEVENT
BEGIN:VEVENT
DTSTART;TZID=UTC:20230820T080000
DTEND;TZID=UTC:20230820T150000
DTSTAMP:20260422T093810
CREATED:20230820T000046Z
LAST-MODIFIED:20230820T000046Z
UID:3646-1692518400-1692543600@graciacdmx.com
SUMMARY:Domingo de amigos
DESCRIPTION:
URL:https://graciacdmx.com/evento/domingo-de-amigos/
ATTACH;FMTTYPE=image/png:https://graciacdmx.com/wp-content/uploads/2023/08/4.png
END:VEVENT
BEGIN:VEVENT
DTSTART;TZID=UTC:20230819T170000
DTEND;TZID=UTC:20230819T190000
DTSTAMP:20260422T093810
CREATED:20230819T235822Z
LAST-MODIFIED:20230819T235822Z
UID:3643-1692464400-1692471600@graciacdmx.com
SUMMARY:Cena de matrimonios
DESCRIPTION:
URL:https://graciacdmx.com/evento/cena-de-matrimonios/
ATTACH;FMTTYPE=image/png:https://graciacdmx.com/wp-content/uploads/2023/08/2.png
END:VEVENT
BEGIN:VEVENT
DTSTART;TZID=UTC:20230723T080000
DTEND;TZID=UTC:20230723T170000
DTSTAMP:20260422T093810
CREATED:20230623T215134Z
LAST-MODIFIED:20230708T002833Z
UID:972-1690099200-1690131600@graciacdmx.com
SUMMARY:Bautizos y Cena del Señor
DESCRIPTION:
URL:https://graciacdmx.com/evento/bautizos-y-cena-del-senor/
ATTACH;FMTTYPE=image/jpeg:https://graciacdmx.com/wp-content/uploads/2023/06/IMG_2579-scaled.jpg
END:VEVENT
BEGIN:VEVENT
DTSTART;TZID=UTC:20230722T080000
DTEND;TZID=UTC:20230722T170000
DTSTAMP:20260422T093810
CREATED:20230708T003424Z
LAST-MODIFIED:20230708T003424Z
UID:2498-1690012800-1690045200@graciacdmx.com
SUMMARY:Capacitación mujeres – Reunión 7 – Módulo 1
DESCRIPTION:
URL:https://graciacdmx.com/evento/capacitacion-mujeres-reunion-7-modulo-1/
ATTACH;FMTTYPE=image/jpeg:https://graciacdmx.com/wp-content/uploads/2023/07/IMG_2907-scaled.jpg
END:VEVENT
BEGIN:VEVENT
DTSTART;TZID=UTC:20230715T110000
DTEND;TZID=UTC:20230715T130000
DTSTAMP:20260422T093810
CREATED:20230708T004220Z
LAST-MODIFIED:20230708T005314Z
UID:2501-1689418800-1689426000@graciacdmx.com
SUMMARY:Reunión de jóvenes adultos y secundarios
DESCRIPTION:
URL:https://graciacdmx.com/evento/reunion-de-jovenes-secundarios/
ATTACH;FMTTYPE=image/jpeg:https://graciacdmx.com/wp-content/uploads/2023/07/IMG_3234-scaled.jpg
END:VEVENT
BEGIN:VEVENT
DTSTART;TZID=UTC:20230715T080000
DTEND;TZID=UTC:20230715T170000
DTSTAMP:20260422T093810
CREATED:20230708T003328Z
LAST-MODIFIED:20230708T021342Z
UID:2495-1689408000-1689440400@graciacdmx.com
SUMMARY:Capacitación mujeres – Reunión 6 – Módulo 1
DESCRIPTION:
URL:https://graciacdmx.com/evento/capacitacion-mujeres-reunion-6-modulo-1/
ATTACH;FMTTYPE=image/jpeg:https://graciacdmx.com/wp-content/uploads/2023/07/IMG_2912-scaled.jpg
END:VEVENT
BEGIN:VEVENT
DTSTART;TZID=UTC:20230708T100000
DTEND;TZID=UTC:20230708T100000
DTSTAMP:20260422T093810
CREATED:20230708T002051Z
LAST-MODIFIED:20230708T002051Z
UID:2491-1688810400-1688810400@graciacdmx.com
SUMMARY:Capacitación mujeres - Reunión 5 - Módulo 1
DESCRIPTION:
URL:https://graciacdmx.com/evento/capacitacion-mujeres-reunion-5-modulo-1/
ATTACH;FMTTYPE=image/jpeg:https://graciacdmx.com/wp-content/uploads/2023/07/IMG_2908-scaled.jpg
END:VEVENT
END:VCALENDAR