BEGIN:VCALENDAR
VERSION:2.0
PRODID:-//Iglesia Bautista Gracia Abundante - Iglesia Cristiana en Ciudad de México - ECPv6.8.1//NONSGML v1.0//EN
CALSCALE:GREGORIAN
METHOD:PUBLISH
X-WR-CALNAME:Iglesia Bautista Gracia Abundante - Iglesia Cristiana en Ciudad de México
X-ORIGINAL-URL:https://graciacdmx.com
X-WR-CALDESC:Eventos para Iglesia Bautista Gracia Abundante - Iglesia Cristiana en Ciudad de México
REFRESH-INTERVAL;VALUE=DURATION:PT1H
X-Robots-Tag:noindex
X-PUBLISHED-TTL:PT1H
BEGIN:VTIMEZONE
TZID:America/Mexico_City
BEGIN:DAYLIGHT
TZOFFSETFROM:-0600
TZOFFSETTO:-0500
TZNAME:CDT
DTSTART:20230402T080000
END:DAYLIGHT
BEGIN:STANDARD
TZOFFSETFROM:-0500
TZOFFSETTO:-0600
TZNAME:CST
DTSTART:20231029T070000
END:STANDARD
TZID:UTC
BEGIN:STANDARD
TZOFFSETFROM:+0000
TZOFFSETTO:+0000
TZNAME:UTC
DTSTART:20230101T000000
END:STANDARD
END:VTIMEZONE
BEGIN:VEVENT
DTSTART;TZID=America/Mexico_City:20231231T090000
DTEND;TZID=America/Mexico_City:20231231T170000
DTSTAMP:20260422T052207
CREATED:20231122T171044Z
LAST-MODIFIED:20231130T213647Z
UID:4144-1704013200-1704042000@graciacdmx.com
SUMMARY:Horario de invierno
DESCRIPTION:Recuerda\, únicamente tendremos dos celebraciones: 9:00 am y 11:00 am. Regístralo en tu calendario y pasa la voz.
URL:https://graciacdmx.com/evento/horario-de-invierno/
ATTACH;FMTTYPE=image/png:https://graciacdmx.com/wp-content/uploads/2023/11/anuncios-para-sitio-web-2-1.png
END:VEVENT
BEGIN:VEVENT
DTSTART;TZID=America/Mexico_City:20231224T090000
DTEND;TZID=America/Mexico_City:20231224T170000
DTSTAMP:20260422T052207
CREATED:20231122T170904Z
LAST-MODIFIED:20231130T213505Z
UID:4140-1703408400-1703437200@graciacdmx.com
SUMMARY:Celebrando la navidad
DESCRIPTION:¡Te invitamos a celebrar el nacimiento de nuestro Rey con nosotros! Únicamente tendremos dos celebraciones (9:00 am y 11:00 am).
URL:https://graciacdmx.com/evento/celebrando-la-navidad/
ATTACH;FMTTYPE=image/png:https://graciacdmx.com/wp-content/uploads/2023/11/anuncios-para-sitio-web.png
END:VEVENT
BEGIN:VEVENT
DTSTART;TZID=America/Mexico_City:20231216T180000
DTEND;TZID=America/Mexico_City:20231216T193000
DTSTAMP:20260422T052207
CREATED:20231013T215110Z
LAST-MODIFIED:20231130T213202Z
UID:4083-1702749600-1702755000@graciacdmx.com
SUMMARY:Festival navideño
DESCRIPTION:¡Te esperamos para nuestro festival navideño! Tendremos alabanzas navideñas\, una clase especial sobre el nacimiento de Jesús\, manualidades\, cantos de los niños\, ponche y algunas sorpresas.
URL:https://graciacdmx.com/evento/festival-navideno/
ATTACH;FMTTYPE=image/png:https://graciacdmx.com/wp-content/uploads/2023/10/17.png
END:VEVENT
BEGIN:VEVENT
DTSTART;TZID=America/Mexico_City:20231216T080000
DTEND;TZID=America/Mexico_City:20231216T170000
DTSTAMP:20260422T052207
CREATED:20231013T214927Z
LAST-MODIFIED:20231130T213231Z
UID:4080-1702713600-1702746000@graciacdmx.com
SUMMARY:Reunión de jóvenes
DESCRIPTION:¡Ven con nosotros a nuestra última reunión del año! Te daremos algunos consejos prácticos para que descubras el llamado de Dios para tu vida. Al finalizar\, tendremos nuestro intercambio navideño.
URL:https://graciacdmx.com/evento/reunion-de-jovenes-4/
ATTACH;FMTTYPE=image/png:https://graciacdmx.com/wp-content/uploads/2023/10/16.png
END:VEVENT
BEGIN:VEVENT
DTSTART;TZID=America/Mexico_City:20231209T100000
DTEND;TZID=America/Mexico_City:20231209T110000
DTSTAMP:20260422T052207
CREATED:20231013T211659Z
LAST-MODIFIED:20231013T211659Z
UID:4052-1702116000-1702119600@graciacdmx.com
SUMMARY:Capacitación para mujeres - Reunión 6
DESCRIPTION:Guía para que las mujeres aprendan a cultivar virtudes para reflejar a Cristo en cada área de su vida con sabiduría.
URL:https://graciacdmx.com/evento/capacitacion-para-mujeres-reunion-6/
ATTACH;FMTTYPE=image/png:https://graciacdmx.com/wp-content/uploads/2023/10/10.png
END:VEVENT
BEGIN:VEVENT
DTSTART;TZID=America/Mexico_City:20231209T090000
DTEND;TZID=America/Mexico_City:20231209T100000
DTSTAMP:20260422T052207
CREATED:20231013T213255Z
LAST-MODIFIED:20231013T213255Z
UID:4068-1702112400-1702116000@graciacdmx.com
SUMMARY:Capacitación para hombres - Reunión 6
DESCRIPTION:Examinando nuestro corazón a la luz del mandato que Dios le dio al hombre de cultivar y cuidar a Su creación.
URL:https://graciacdmx.com/evento/capacitacion-para-hombres-reunion-6/
ATTACH;FMTTYPE=image/png:https://graciacdmx.com/wp-content/uploads/2023/10/11.png
END:VEVENT
BEGIN:VEVENT
DTSTART;TZID=America/Mexico_City:20231202T100000
DTEND;TZID=America/Mexico_City:20231202T110000
DTSTAMP:20260422T052207
CREATED:20231013T211536Z
LAST-MODIFIED:20231013T212101Z
UID:4050-1701511200-1701514800@graciacdmx.com
SUMMARY:Capacitación para mujeres - Reunión 5
DESCRIPTION:Guía para que las mujeres aprendan a cultivar virtudes para reflejar a Cristo en cada área de su vida con sabiduría.
URL:https://graciacdmx.com/evento/capacitacion-para-mujeres-reunion-5/
ATTACH;FMTTYPE=image/png:https://graciacdmx.com/wp-content/uploads/2023/10/10.png
END:VEVENT
BEGIN:VEVENT
DTSTART;TZID=America/Mexico_City:20231202T090000
DTEND;TZID=America/Mexico_City:20231202T100000
DTSTAMP:20260422T052207
CREATED:20231013T213141Z
LAST-MODIFIED:20231013T213141Z
UID:4066-1701507600-1701511200@graciacdmx.com
SUMMARY:Capacitación para hombres - Reunión 5
DESCRIPTION:Examinando nuestro corazón a la luz del mandato que Dios le dio al hombre de cultivar y cuidar a Su creación.
URL:https://graciacdmx.com/evento/capacitacion-para-hombres-reunion-5/
ATTACH;FMTTYPE=image/png:https://graciacdmx.com/wp-content/uploads/2023/10/11.png
END:VEVENT
BEGIN:VEVENT
DTSTART;TZID=America/Mexico_City:20231126T080000
DTEND;TZID=America/Mexico_City:20231126T170000
DTSTAMP:20260422T052207
CREATED:20231013T214727Z
LAST-MODIFIED:20231013T214727Z
UID:4076-1700985600-1701018000@graciacdmx.com
SUMMARY:Domingo de bautizos
DESCRIPTION:Si aún no te has bautizado\, regístrate aquí
URL:https://graciacdmx.com/evento/domingo-de-bautizos-2/
ATTACH;FMTTYPE=image/png:https://graciacdmx.com/wp-content/uploads/2023/10/14.png
END:VEVENT
BEGIN:VEVENT
DTSTART;TZID=America/Mexico_City:20231125T100000
DTEND;TZID=America/Mexico_City:20231125T110000
DTSTAMP:20260422T052207
CREATED:20231013T211223Z
LAST-MODIFIED:20231013T211837Z
UID:4048-1700906400-1700910000@graciacdmx.com
SUMMARY:Capacitación para mujeres - Reunión 4
DESCRIPTION:Guía para que las mujeres aprendan a cultivar virtudes para reflejar a Cristo en cada área de su vida con sabiduría.
URL:https://graciacdmx.com/evento/capacitacion-para-mujeres-reunion-4/
ATTACH;FMTTYPE=image/png:https://graciacdmx.com/wp-content/uploads/2023/10/10.png
END:VEVENT
BEGIN:VEVENT
DTSTART;TZID=America/Mexico_City:20231125T090000
DTEND;TZID=America/Mexico_City:20231125T100000
DTSTAMP:20260422T052207
CREATED:20231013T213037Z
LAST-MODIFIED:20231013T213037Z
UID:4064-1700902800-1700906400@graciacdmx.com
SUMMARY:Capacitación para hombres - Reunión 4
DESCRIPTION:Examinando nuestro corazón a la luz del mandato que Dios le dio al hombre de cultivar y cuidar a Su creación.
URL:https://graciacdmx.com/evento/capacitacion-para-hombres-reunion-4/
ATTACH;FMTTYPE=image/png:https://graciacdmx.com/wp-content/uploads/2023/10/11.png
END:VEVENT
BEGIN:VEVENT
DTSTART;TZID=America/Mexico_City:20231119T180000
DTEND;TZID=America/Mexico_City:20231119T193000
DTSTAMP:20260422T052207
CREATED:20231013T214143Z
LAST-MODIFIED:20231013T214208Z
UID:4070-1700416800-1700422200@graciacdmx.com
SUMMARY:Cuarta capacitación de mentoría bíblica
DESCRIPTION:Aprende a dar consejos bíblicos en tu contexto particular
URL:https://graciacdmx.com/evento/cuarta-capacitacion-de-mentoria-biblica/
ATTACH;FMTTYPE=image/png:https://graciacdmx.com/wp-content/uploads/2023/10/13.png
END:VEVENT
BEGIN:VEVENT
DTSTART;TZID=America/Mexico_City:20231118T100000
DTEND;TZID=America/Mexico_City:20231118T110000
DTSTAMP:20260422T052207
CREATED:20231013T210404Z
LAST-MODIFIED:20231013T211814Z
UID:4046-1700301600-1700305200@graciacdmx.com
SUMMARY:Capacitación para mujeres - Reunión 3
DESCRIPTION:Guía para que las mujeres aprendan a cultivar virtudes para reflejar a Cristo en cada área de su vida con sabiduría.
URL:https://graciacdmx.com/evento/capacitacion-para-mujeres-reunion-3/
ATTACH;FMTTYPE=image/png:https://graciacdmx.com/wp-content/uploads/2023/10/10.png
END:VEVENT
BEGIN:VEVENT
DTSTART;TZID=America/Mexico_City:20231118T090000
DTEND;TZID=America/Mexico_City:20231118T100000
DTSTAMP:20260422T052207
CREATED:20231013T212912Z
LAST-MODIFIED:20231013T212912Z
UID:4062-1700298000-1700301600@graciacdmx.com
SUMMARY:Capacitación para hombres - Reunión 3
DESCRIPTION:Examinando nuestro corazón a la luz del mandato que Dios le dio al hombre de cultivar y cuidar a Su creación.
URL:https://graciacdmx.com/evento/capacitacion-para-hombres-reunion-3/
ATTACH;FMTTYPE=image/png:https://graciacdmx.com/wp-content/uploads/2023/10/11.png
END:VEVENT
BEGIN:VEVENT
DTSTART;TZID=America/Mexico_City:20231111T110000
DTEND;TZID=America/Mexico_City:20231111T130000
DTSTAMP:20260422T052207
CREATED:20231013T214536Z
LAST-MODIFIED:20231013T214536Z
UID:4073-1699700400-1699707600@graciacdmx.com
SUMMARY:Reunión de jóvenes
DESCRIPTION:Tema: El noviazgo en la Biblia
URL:https://graciacdmx.com/evento/reunion-de-jovenes-3/
ATTACH;FMTTYPE=image/png:https://graciacdmx.com/wp-content/uploads/2023/10/12.png
END:VEVENT
BEGIN:VEVENT
DTSTART;TZID=America/Mexico_City:20231111T100000
DTEND;TZID=America/Mexico_City:20231111T110000
DTSTAMP:20260422T052207
CREATED:20231013T210223Z
LAST-MODIFIED:20231013T212731Z
UID:4044-1699696800-1699700400@graciacdmx.com
SUMMARY:Capacitación para mujeres - Reunión 2
DESCRIPTION:Guía para que las mujeres aprendan a cultivar virtudes para reflejar a Cristo en cada área de su vida con sabiduría.
URL:https://graciacdmx.com/evento/capacitacion-de-mujeres-reunion-2/
ATTACH;FMTTYPE=image/png:https://graciacdmx.com/wp-content/uploads/2023/10/10.png
END:VEVENT
BEGIN:VEVENT
DTSTART;TZID=America/Mexico_City:20231111T090000
DTEND;TZID=America/Mexico_City:20231111T100000
DTSTAMP:20260422T052207
CREATED:20231013T212650Z
LAST-MODIFIED:20231013T212650Z
UID:4058-1699693200-1699696800@graciacdmx.com
SUMMARY:Capacitación para hombres - Reunión 2
DESCRIPTION:Examinando nuestro corazón a la luz del mandato que Dios le dio al hombre de cultivar y cuidar a Su creación.
URL:https://graciacdmx.com/evento/capacitacion-para-hombres-reunion-2/
ATTACH;FMTTYPE=image/png:https://graciacdmx.com/wp-content/uploads/2023/10/11.png
END:VEVENT
BEGIN:VEVENT
DTSTART;TZID=America/Mexico_City:20231104T100000
DTEND;TZID=America/Mexico_City:20231104T110000
DTSTAMP:20260422T052207
CREATED:20231013T205937Z
LAST-MODIFIED:20231013T205937Z
UID:4041-1699092000-1699095600@graciacdmx.com
SUMMARY:Capacitación para mujeres - Reunión 1
DESCRIPTION:Guía para que las mujeres aprendan a cultivar virtudes para reflejar a Cristo en cada área de su vida con sabiduría.
URL:https://graciacdmx.com/evento/capacitacion-para-mujeres-reunion-1/
ATTACH;FMTTYPE=image/png:https://graciacdmx.com/wp-content/uploads/2023/10/10.png
END:VEVENT
BEGIN:VEVENT
DTSTART;TZID=America/Mexico_City:20231104T090000
DTEND;TZID=America/Mexico_City:20231104T110000
DTSTAMP:20260422T052207
CREATED:20231013T212542Z
LAST-MODIFIED:20231013T212542Z
UID:4055-1699088400-1699095600@graciacdmx.com
SUMMARY:Capacitación para hombres - Reunión 1
DESCRIPTION:Examinando nuestro corazón a la luz del mandato que Dios le dio al hombre de cultivar y cuidar a Su creación.
URL:https://graciacdmx.com/evento/capacitacion-para-hombres-reunion-1/
ATTACH;FMTTYPE=image/png:https://graciacdmx.com/wp-content/uploads/2023/10/11.png
END:VEVENT
BEGIN:VEVENT
DTSTART;TZID=America/Mexico_City:20231102T193000
DTEND;TZID=America/Mexico_City:20231102T203000
DTSTAMP:20260422T052207
CREATED:20230920T203714Z
LAST-MODIFIED:20230920T203714Z
UID:3888-1698953400-1698957000@graciacdmx.com
SUMMARY:Clases por Zoom
DESCRIPTION:¡No te pierdas nuestra nueva temporada de clases online!
URL:https://graciacdmx.com/evento/clases-por-zoom-3/
ATTACH;FMTTYPE=image/png:https://graciacdmx.com/wp-content/uploads/2023/09/anuncios-para-sitio-web-3.png
END:VEVENT
BEGIN:VEVENT
DTSTART;TZID=America/Mexico_City:20231028T100000
DTEND;TZID=America/Mexico_City:20231028T170000
DTSTAMP:20260422T052207
CREATED:20230920T202537Z
LAST-MODIFIED:20230920T202537Z
UID:3870-1698487200-1698512400@graciacdmx.com
SUMMARY:Desayuno para nuevos
DESCRIPTION:Si llevas menos de seis meses visitándonos y no has asistido a los desayunos anteriores\, ¡Te invitamos a participar!
URL:https://graciacdmx.com/evento/desayuno-para-nuevos/
ATTACH;FMTTYPE=image/png:https://graciacdmx.com/wp-content/uploads/2023/09/desayuno-de-nuevos.png
END:VEVENT
BEGIN:VEVENT
DTSTART;TZID=America/Mexico_City:20231026T193000
DTEND;TZID=America/Mexico_City:20231026T203000
DTSTAMP:20260422T052207
CREATED:20230920T203621Z
LAST-MODIFIED:20230920T203621Z
UID:3885-1698348600-1698352200@graciacdmx.com
SUMMARY:Clases por Zoom
DESCRIPTION:¡No te pierdas nuestra nueva temporada de clases online!
URL:https://graciacdmx.com/evento/clases-por-zoom-2/
ATTACH;FMTTYPE=image/png:https://graciacdmx.com/wp-content/uploads/2023/09/anuncios-para-sitio-web-3.png
END:VEVENT
BEGIN:VEVENT
DTSTART;TZID=America/Mexico_City:20231022T080000
DTEND;TZID=America/Mexico_City:20231022T170000
DTSTAMP:20260422T052207
CREATED:20230920T203038Z
LAST-MODIFIED:20230920T203038Z
UID:3876-1697961600-1697994000@graciacdmx.com
SUMMARY:Proyecto 4:33
DESCRIPTION:¡Conoce a nuestros misioneros y el trabajo que están haciendo!
URL:https://graciacdmx.com/evento/proyecto-433/
ATTACH;FMTTYPE=image/png:https://graciacdmx.com/wp-content/uploads/2023/09/PROYECTO-4-33.png
END:VEVENT
BEGIN:VEVENT
DTSTART;TZID=America/Mexico_City:20231021T170000
DTEND;TZID=America/Mexico_City:20231021T170000
DTSTAMP:20260422T052207
CREATED:20230920T202825Z
LAST-MODIFIED:20230920T202825Z
UID:3873-1697907600-1697907600@graciacdmx.com
SUMMARY:Comida con nuestros misioneros
DESCRIPTION:Ven a comer junto con nuestros misioneros y conoce cómo se está expandiendo el reino de Dios.
URL:https://graciacdmx.com/evento/comida-con-nuestros-misioneros/
ATTACH;FMTTYPE=image/png:https://graciacdmx.com/wp-content/uploads/2023/09/comida-con-nuestros-miksioneros.png
END:VEVENT
BEGIN:VEVENT
DTSTART;TZID=America/Mexico_City:20231019T193000
DTEND;TZID=America/Mexico_City:20231019T203000
DTSTAMP:20260422T052207
CREATED:20230920T203536Z
LAST-MODIFIED:20230920T203536Z
UID:3882-1697743800-1697747400@graciacdmx.com
SUMMARY:Clases por Zoom
DESCRIPTION:¡No te pierdas nuestra nueva temporada de clases online!
URL:https://graciacdmx.com/evento/clases-por-zoom/
ATTACH;FMTTYPE=image/png:https://graciacdmx.com/wp-content/uploads/2023/09/anuncios-para-sitio-web-3.png
END:VEVENT
BEGIN:VEVENT
DTSTART;TZID=America/Mexico_City:20231015T170000
DTEND;TZID=America/Mexico_City:20231015T190000
DTSTAMP:20260422T052207
CREATED:20230920T203311Z
LAST-MODIFIED:20230920T203311Z
UID:3879-1697389200-1697396400@graciacdmx.com
SUMMARY:Tercera capacitación de mentoría bíblica
DESCRIPTION:Aprende a dar consejos bíblicos en tu contexto particular
URL:https://graciacdmx.com/evento/tercera-capacitacion-de-mentoria-biblica/
ATTACH;FMTTYPE=image/png:https://graciacdmx.com/wp-content/uploads/2023/09/anuncios-para-sitio-web-2.png
END:VEVENT
BEGIN:VEVENT
DTSTART;TZID=UTC:20231008T110000
DTEND;TZID=UTC:20231008T160000
DTSTAMP:20260422T052207
CREATED:20230820T001339Z
LAST-MODIFIED:20230824T190440Z
UID:3668-1696762800-1696780800@graciacdmx.com
SUMMARY:Celebración de aniversario
DESCRIPTION:Dirección: Calz. del Hueso 380\, Coapa\, Girasoles III\, Coyoacán\, 04920 Ciudad de México\, CDMX\nEl boleto tendrá un costo de $50\, por la renta de salón\, equipo\, COMIDA y juegos para niños.
URL:https://graciacdmx.com/evento/celebracion-de-aniversario/
ATTACH;FMTTYPE=image/png:https://graciacdmx.com/wp-content/uploads/2023/08/6.png
END:VEVENT
BEGIN:VEVENT
DTSTART;TZID=America/Mexico_City:20231007T100000
DTEND;TZID=America/Mexico_City:20231007T110000
DTSTAMP:20260422T052207
CREATED:20230901T170234Z
LAST-MODIFIED:20230901T170234Z
UID:3815-1696672800-1696676400@graciacdmx.com
SUMMARY:Clase de membresía
DESCRIPTION:Conoce qué es la membresía de Gracia Abundante y cómo puedes formar parte de ella
URL:https://graciacdmx.com/evento/clase-de-membresia-3/
ATTACH;FMTTYPE=image/png:https://graciacdmx.com/wp-content/uploads/2023/09/beige-and-brown-minimalist-anniversary-card-2.png
END:VEVENT
BEGIN:VEVENT
DTSTART;TZID=America/Mexico_City:20230930T100000
DTEND;TZID=America/Mexico_City:20230930T110000
DTSTAMP:20260422T052207
CREATED:20230901T170134Z
LAST-MODIFIED:20230901T170134Z
UID:3812-1696068000-1696071600@graciacdmx.com
SUMMARY:Clase de membresía
DESCRIPTION:Conoce qué es la membresía de Gracia Abundante y cómo puedes formar parte de ella
URL:https://graciacdmx.com/evento/clase-de-membresia-2/
ATTACH;FMTTYPE=image/png:https://graciacdmx.com/wp-content/uploads/2023/09/beige-and-brown-minimalist-anniversary-card-2.png
END:VEVENT
BEGIN:VEVENT
DTSTART;TZID=UTC:20230930T090000
DTEND;TZID=UTC:20230930T100000
DTSTAMP:20260422T052207
CREATED:20230820T001232Z
LAST-MODIFIED:20230824T190103Z
UID:3666-1696064400-1696068000@graciacdmx.com
SUMMARY:Capacitación Hombres y Mujeres - Reunión 5
DESCRIPTION:Principios de interpretación que guían el entendimiento dispensacionalista de la trama Bíblica
URL:https://graciacdmx.com/evento/capacitacion-hombres-y-mujeres-reunion-5/
ATTACH;FMTTYPE=image/png:https://graciacdmx.com/wp-content/uploads/2023/08/5-1.png
END:VEVENT
END:VCALENDAR